Package: hierinf Version: 1.27.0 Command: rm -rf hierinf.buildbin-libdir && mkdir hierinf.buildbin-libdir && /Users/biocbuild/BBS/utils/build-universal.sh hierinf_1.27.0.tar.gz /Library/Frameworks/R.framework/Resources/bin/R hierinf.buildbin-libdir StartedAt: 2025-07-15 01:01:24 -0400 (Tue, 15 Jul 2025) EndedAt: 2025-07-15 01:01:30 -0400 (Tue, 15 Jul 2025) EllapsedTime: 6.9 seconds RetCode: 0 Status: OK PackageFile: hierinf_1.27.0.tgz PackageFileSize: 498.2 KiB