Package: hierGWAS Version: 1.39.0 Command: /home/biocbuild/R/R/bin/R CMD build --keep-empty-dirs --no-resave-data hierGWAS StartedAt: 2025-07-15 00:16:24 -0000 (Tue, 15 Jul 2025) EndedAt: 2025-07-15 00:18:21 -0000 (Tue, 15 Jul 2025) EllapsedTime: 117.1 seconds RetCode: 0 Status: OK PackageFile: hierGWAS_1.39.0.tar.gz PackageFileSize: 555.1 KiB