Package: hierGWAS Version: 1.39.0 Command: rm -rf hierGWAS.buildbin-libdir && mkdir hierGWAS.buildbin-libdir && F:\biocbuild\bbs-3.22-bioc\R\bin\R.exe CMD INSTALL --build --library=hierGWAS.buildbin-libdir hierGWAS_1.39.0.tar.gz StartedAt: 2025-08-15 10:28:11 -0400 (Fri, 15 Aug 2025) EndedAt: 2025-08-15 10:28:24 -0400 (Fri, 15 Aug 2025) EllapsedTime: 12.9 seconds RetCode: 0 Status: OK PackageFile: hierGWAS_1.39.0.zip PackageFileSize: 420.5 KiB