Package: hierGWAS Version: 1.39.0 Command: /Library/Frameworks/R.framework/Resources/bin/R CMD INSTALL hierGWAS StartedAt: 2025-07-01 15:20:40 -0400 (Tue, 01 Jul 2025) EndedAt: 2025-07-01 15:21:36 -0400 (Tue, 01 Jul 2025) EllapsedTime: 55.9 seconds RetCode: 0 Status: OK