Package: hierGWAS Version: 1.39.0 Command: /Library/Frameworks/R.framework/Resources/bin/R CMD check --install=check:hierGWAS.install-out.txt --library=/Library/Frameworks/R.framework/Resources/library --no-vignettes --timings hierGWAS_1.39.0.tar.gz StartedAt: 2025-07-01 21:19:29 -0400 (Tue, 01 Jul 2025) EndedAt: 2025-07-01 21:20:26 -0400 (Tue, 01 Jul 2025) EllapsedTime: 57.1 seconds RetCode: 0 Status: WARNINGS CheckDir: hierGWAS.Rcheck Warnings: 1