Package: hierGWAS Version: 1.39.0 Command: /Library/Frameworks/R.framework/Resources/bin/R CMD build --keep-empty-dirs --no-resave-data hierGWAS StartedAt: 2025-07-01 17:17:55 -0400 (Tue, 01 Jul 2025) EndedAt: 2025-07-01 17:19:33 -0400 (Tue, 01 Jul 2025) EllapsedTime: 98.2 seconds RetCode: 0 Status: OK PackageFile: hierGWAS_1.39.0.tar.gz PackageFileSize: 565.4 KiB