Package: hierGWAS Version: 1.39.0 Command: rm -rf hierGWAS.buildbin-libdir && mkdir hierGWAS.buildbin-libdir && /Users/biocbuild/BBS/utils/build-universal.sh hierGWAS_1.39.0.tar.gz /Library/Frameworks/R.framework/Resources/bin/R hierGWAS.buildbin-libdir StartedAt: 2025-07-02 01:01:29 -0400 (Wed, 02 Jul 2025) EndedAt: 2025-07-02 01:01:39 -0400 (Wed, 02 Jul 2025) EllapsedTime: 10.3 seconds RetCode: 0 Status: OK PackageFile: hierGWAS_1.39.0.tgz PackageFileSize: 553 KiB