Package: hierGWAS Version: 1.39.0 Command: /Library/Frameworks/R.framework/Resources/bin/R CMD INSTALL hierGWAS StartedAt: 2025-07-03 15:03:49 -0400 (Thu, 03 Jul 2025) EndedAt: 2025-07-03 15:04:03 -0400 (Thu, 03 Jul 2025) EllapsedTime: 13.3 seconds RetCode: 0 Status: OK