Package: hierGWAS Version: 1.39.0 Command: /Library/Frameworks/R.framework/Resources/bin/R CMD check --install=check:hierGWAS.install-out.txt --library=/Library/Frameworks/R.framework/Resources/library --no-vignettes --timings hierGWAS_1.39.0.tar.gz StartedAt: 2025-07-06 19:37:27 -0400 (Sun, 06 Jul 2025) EndedAt: 2025-07-06 19:37:49 -0400 (Sun, 06 Jul 2025) EllapsedTime: 22.3 seconds RetCode: 0 Status: WARNINGS CheckDir: hierGWAS.Rcheck Warnings: 1