Package: hicVennDiagram Version: 1.7.1 Command: rm -rf hicVennDiagram.buildbin-libdir && mkdir hicVennDiagram.buildbin-libdir && F:\biocbuild\bbs-3.22-bioc\R\bin\R.exe CMD INSTALL --build --library=hicVennDiagram.buildbin-libdir hicVennDiagram_1.7.1.tar.gz StartedAt: 2025-07-23 09:18:57 -0400 (Wed, 23 Jul 2025) EndedAt: 2025-07-23 09:21:19 -0400 (Wed, 23 Jul 2025) EllapsedTime: 141.2 seconds RetCode: 0 Status: OK PackageFile: hicVennDiagram_1.7.1.zip PackageFileSize: 1.097 MiB