Package: hiReadsProcessor Version: 1.45.1 Command: /home/biocbuild/R/R/bin/R CMD check --install=check:hiReadsProcessor.install-out.txt --library=/home/biocbuild/R/R/site-library --no-vignettes --timings hiReadsProcessor_1.45.1.tar.gz StartedAt: 2025-07-15 08:28:58 -0000 (Tue, 15 Jul 2025) EndedAt: 2025-07-15 08:34:16 -0000 (Tue, 15 Jul 2025) EllapsedTime: 318.4 seconds RetCode: 1 Status: ERROR CheckDir: hiReadsProcessor.Rcheck Warnings: NA