Package: hiAnnotator Version: 1.43.0 Command: /home/biocbuild/R/R/bin/R CMD check --install=check:hiAnnotator.install-out.txt --library=/home/biocbuild/R/R/site-library --no-vignettes --timings hiAnnotator_1.43.0.tar.gz StartedAt: 2025-06-20 08:20:44 -0000 (Fri, 20 Jun 2025) EndedAt: 2025-06-20 08:27:03 -0000 (Fri, 20 Jun 2025) EllapsedTime: 379.4 seconds RetCode: 0 Status: OK CheckDir: hiAnnotator.Rcheck Warnings: 0