Package: hiAnnotator Version: 1.43.1 Command: /home/biocbuild/R/R/bin/R CMD build --keep-empty-dirs --no-resave-data hiAnnotator StartedAt: 2025-07-18 00:23:46 -0000 (Fri, 18 Jul 2025) EndedAt: 2025-07-18 00:25:09 -0000 (Fri, 18 Jul 2025) EllapsedTime: 83.1 seconds RetCode: 1 Status: ERROR PackageFile: None PackageFileSize: NA