Package: hiAnnotator Version: 1.43.1 Command: F:\biocbuild\bbs-3.22-bioc\R\bin\R.exe CMD INSTALL hiAnnotator StartedAt: 2025-07-21 16:35:27 -0400 (Mon, 21 Jul 2025) EndedAt: 2025-07-21 16:36:16 -0400 (Mon, 21 Jul 2025) EllapsedTime: 49.1 seconds RetCode: 0 Status: OK