Package: hiAnnotator Version: 1.43.0 Command: F:\biocbuild\bbs-3.22-bioc\R\bin\R.exe CMD check --no-multiarch --install=check:hiAnnotator.install-out.txt --library=F:\biocbuild\bbs-3.22-bioc\R\library --no-vignettes --timings hiAnnotator_1.43.0.tar.gz StartedAt: 2025-06-21 02:47:39 -0400 (Sat, 21 Jun 2025) EndedAt: 2025-06-21 02:52:24 -0400 (Sat, 21 Jun 2025) EllapsedTime: 285.3 seconds RetCode: 0 Status: OK CheckDir: hiAnnotator.Rcheck Warnings: 0