Package: hiAnnotator Version: 1.43.1 Command: chmod a+r hiAnnotator -R && F:\biocbuild\bbs-3.22-bioc\R\bin\R.exe CMD build --keep-empty-dirs --no-resave-data hiAnnotator StartedAt: 2025-07-21 19:41:09 -0400 (Mon, 21 Jul 2025) EndedAt: 2025-07-21 19:42:10 -0400 (Mon, 21 Jul 2025) EllapsedTime: 61.3 seconds RetCode: 1 Status: ERROR PackageFile: None PackageFileSize: NA