Package: hermes Version: 1.13.1 Command: /home/biocbuild/R/R/bin/R CMD check --install=check:hermes.install-out.txt --library=/home/biocbuild/R/R/site-library --no-vignettes --timings hermes_1.13.1.tar.gz StartedAt: 2025-10-03 08:00:08 -0000 (Fri, 03 Oct 2025) EndedAt: 2025-10-03 08:11:14 -0000 (Fri, 03 Oct 2025) EllapsedTime: 665.9 seconds RetCode: 0 Status: OK CheckDir: hermes.Rcheck Warnings: 0