Package: hermes Version: 1.13.0 Command: rm -rf hermes.buildbin-libdir && mkdir hermes.buildbin-libdir && F:\biocbuild\bbs-3.22-bioc\R\bin\R.exe CMD INSTALL --build --library=hermes.buildbin-libdir hermes_1.13.0.tar.gz StartedAt: 2025-08-15 10:27:39 -0400 (Fri, 15 Aug 2025) EndedAt: 2025-08-15 10:29:15 -0400 (Fri, 15 Aug 2025) EllapsedTime: 95.6 seconds RetCode: 0 Status: OK PackageFile: hermes_1.13.0.zip PackageFileSize: 3.453 MiB