Package: heatmaps Version: 1.33.1 Command: F:\biocbuild\bbs-3.22-bioc\R\bin\R.exe CMD INSTALL heatmaps StartedAt: 2025-07-24 16:03:25 -0400 (Thu, 24 Jul 2025) EndedAt: 2025-07-24 16:04:19 -0400 (Thu, 24 Jul 2025) EllapsedTime: 53.4 seconds RetCode: 0 Status: OK