Package: heatmaps Version: 1.33.0 Command: /home/biocbuild/bbs-3.22-bioc/R/bin/R CMD INSTALL heatmaps StartedAt: 2025-06-29 15:33:37 -0400 (Sun, 29 Jun 2025) EndedAt: 2025-06-29 15:33:54 -0400 (Sun, 29 Jun 2025) EllapsedTime: 16.7 seconds RetCode: 0 Status: OK