Package: heatmaps Version: 1.33.0 Command: /Library/Frameworks/R.framework/Resources/bin/R CMD build --keep-empty-dirs --no-resave-data heatmaps StartedAt: 2025-07-16 17:11:23 -0400 (Wed, 16 Jul 2025) EndedAt: 2025-07-16 17:12:54 -0400 (Wed, 16 Jul 2025) EllapsedTime: 91.1 seconds RetCode: 0 Status: OK PackageFile: heatmaps_1.33.0.tar.gz PackageFileSize: 8.738 MiB