Package: heatmaps Version: 1.33.0 Command: rm -rf heatmaps.buildbin-libdir && mkdir heatmaps.buildbin-libdir && /Users/biocbuild/BBS/utils/build-universal.sh heatmaps_1.33.0.tar.gz /Library/Frameworks/R.framework/Resources/bin/R heatmaps.buildbin-libdir StartedAt: 2025-07-15 01:00:59 -0400 (Tue, 15 Jul 2025) EndedAt: 2025-07-15 01:01:28 -0400 (Tue, 15 Jul 2025) EllapsedTime: 28.7 seconds RetCode: 0 Status: OK PackageFile: heatmaps_1.33.0.tgz PackageFileSize: 8.994 MiB