Package: heatmaps Version: 1.33.0 Command: /Library/Frameworks/R.framework/Resources/bin/R CMD INSTALL heatmaps StartedAt: 2025-07-14 15:17:31 -0400 (Mon, 14 Jul 2025) EndedAt: 2025-07-14 15:17:37 -0400 (Mon, 14 Jul 2025) EllapsedTime: 6.4 seconds RetCode: 0 Status: OK