Package: heatmaps Version: 1.33.0 Command: /Library/Frameworks/R.framework/Resources/bin/R CMD check --install=check:heatmaps.install-out.txt --library=/Library/Frameworks/R.framework/Resources/library --no-vignettes --timings heatmaps_1.33.0.tar.gz StartedAt: 2025-07-14 19:37:08 -0400 (Mon, 14 Jul 2025) EndedAt: 2025-07-14 19:37:57 -0400 (Mon, 14 Jul 2025) EllapsedTime: 48.5 seconds RetCode: 0 Status: OK CheckDir: heatmaps.Rcheck Warnings: 0