Package: heatmaps Version: 1.33.0 Command: /Library/Frameworks/R.framework/Resources/bin/R CMD build --keep-empty-dirs --no-resave-data heatmaps StartedAt: 2025-07-14 16:33:56 -0400 (Mon, 14 Jul 2025) EndedAt: 2025-07-14 16:34:30 -0400 (Mon, 14 Jul 2025) EllapsedTime: 34.4 seconds RetCode: 0 Status: OK PackageFile: heatmaps_1.33.0.tar.gz PackageFileSize: 8.741 MiB