Package: hdxmsqc Version: 1.5.0 Command: F:\biocbuild\bbs-3.22-bioc\R\bin\R.exe CMD INSTALL hdxmsqc StartedAt: 2025-07-24 16:16:37 -0400 (Thu, 24 Jul 2025) EndedAt: 2025-07-24 16:17:21 -0400 (Thu, 24 Jul 2025) EllapsedTime: 44.2 seconds RetCode: 0 Status: OK