Package: hdxmsqc Version: 1.5.0 Command: /home/biocbuild/bbs-3.22-bioc/R/bin/R CMD check --install=check:hdxmsqc.install-out.txt --library=/home/biocbuild/bbs-3.22-bioc/R/site-library --timings hdxmsqc_1.5.0.tar.gz StartedAt: 2025-06-30 23:02:07 -0400 (Mon, 30 Jun 2025) EndedAt: 2025-06-30 23:09:31 -0400 (Mon, 30 Jun 2025) EllapsedTime: 444.4 seconds RetCode: 0 Status: OK CheckDir: hdxmsqc.Rcheck Warnings: 0