Package: hdxmsqc Version: 1.5.0 Command: /home/biocbuild/bbs-3.22-bioc/R/bin/R CMD build --keep-empty-dirs --no-resave-data --md5 hdxmsqc StartedAt: 2025-07-15 17:32:09 -0400 (Tue, 15 Jul 2025) EndedAt: 2025-07-15 17:36:05 -0400 (Tue, 15 Jul 2025) EllapsedTime: 236.3 seconds RetCode: 0 Status: OK PackageFile: hdxmsqc_1.5.0.tar.gz PackageFileSize: 5.468 MiB