Package: hdxmsqc Version: 1.5.0 Command: /Library/Frameworks/R.framework/Resources/bin/R CMD INSTALL hdxmsqc StartedAt: 2025-07-14 15:39:42 -0400 (Mon, 14 Jul 2025) EndedAt: 2025-07-14 15:40:23 -0400 (Mon, 14 Jul 2025) EllapsedTime: 40.9 seconds RetCode: 0 Status: OK