Package: hdxmsqc Version: 1.5.0 Command: rm -rf hdxmsqc.buildbin-libdir && mkdir hdxmsqc.buildbin-libdir && /Users/biocbuild/BBS/utils/build-universal.sh hdxmsqc_1.5.0.tar.gz /Library/Frameworks/R.framework/Resources/bin/R hdxmsqc.buildbin-libdir StartedAt: 2025-07-16 01:06:36 -0400 (Wed, 16 Jul 2025) EndedAt: 2025-07-16 01:07:21 -0400 (Wed, 16 Jul 2025) EllapsedTime: 45.2 seconds RetCode: 0 Status: OK PackageFile: hdxmsqc_1.5.0.tgz PackageFileSize: 4.671 MiB