Package: hdxmsqc Version: 1.5.0 Command: /Library/Frameworks/R.framework/Resources/bin/R CMD INSTALL hdxmsqc StartedAt: 2025-07-20 15:19:08 -0400 (Sun, 20 Jul 2025) EndedAt: 2025-07-20 15:19:21 -0400 (Sun, 20 Jul 2025) EllapsedTime: 12.8 seconds RetCode: 0 Status: OK