Package: hdxmsqc Version: 1.5.0 Command: /Library/Frameworks/R.framework/Resources/bin/R CMD check --install=check:hdxmsqc.install-out.txt --library=/Library/Frameworks/R.framework/Resources/library --no-vignettes --timings hdxmsqc_1.5.0.tar.gz StartedAt: 2025-07-20 19:42:38 -0400 (Sun, 20 Jul 2025) EndedAt: 2025-07-20 19:44:07 -0400 (Sun, 20 Jul 2025) EllapsedTime: 89.0 seconds RetCode: 0 Status: OK CheckDir: hdxmsqc.Rcheck Warnings: 0