Package: hdxmsqc Version: 1.5.0 Command: /Library/Frameworks/R.framework/Resources/bin/R CMD build --keep-empty-dirs --no-resave-data hdxmsqc StartedAt: 2025-07-20 16:34:34 -0400 (Sun, 20 Jul 2025) EndedAt: 2025-07-20 16:35:52 -0400 (Sun, 20 Jul 2025) EllapsedTime: 77.8 seconds RetCode: 0 Status: OK PackageFile: hdxmsqc_1.5.0.tar.gz PackageFileSize: 4.59 MiB