Package: hdxmsqc Version: 1.5.0 Command: rm -rf hdxmsqc.buildbin-libdir && mkdir hdxmsqc.buildbin-libdir && /Users/biocbuild/BBS/utils/build-universal.sh hdxmsqc_1.5.0.tar.gz /Library/Frameworks/R.framework/Resources/bin/R hdxmsqc.buildbin-libdir StartedAt: 2025-07-20 22:28:44 -0400 (Sun, 20 Jul 2025) EndedAt: 2025-07-20 22:28:58 -0400 (Sun, 20 Jul 2025) EllapsedTime: 14.4 seconds RetCode: 0 Status: OK PackageFile: hdxmsqc_1.5.0.tgz PackageFileSize: 4.696 MiB