Package: hca Version: 1.17.0 Command: /home/biocbuild/R/R/bin/R CMD INSTALL hca StartedAt: 2025-07-17 20:18:24 -0000 (Thu, 17 Jul 2025) EndedAt: 2025-07-17 20:18:38 -0000 (Thu, 17 Jul 2025) EllapsedTime: 14.4 seconds RetCode: 0 Status: OK