Package: hca Version: 1.17.0 Command: /home/biocbuild/R/R/bin/R CMD build --keep-empty-dirs --no-resave-data hca StartedAt: 2025-07-18 00:21:59 -0000 (Fri, 18 Jul 2025) EndedAt: 2025-07-18 00:25:20 -0000 (Fri, 18 Jul 2025) EllapsedTime: 201.2 seconds RetCode: 0 Status: OK PackageFile: hca_1.17.0.tar.gz PackageFileSize: 537.3 KiB