Package: hca Version: 1.17.0 Command: /Library/Frameworks/R.framework/Resources/bin/R CMD INSTALL hca StartedAt: 2025-07-13 15:14:15 -0400 (Sun, 13 Jul 2025) EndedAt: 2025-07-13 15:14:46 -0400 (Sun, 13 Jul 2025) EllapsedTime: 31.0 seconds RetCode: 0 Status: OK