Package: hca Version: 1.17.0 Command: /Library/Frameworks/R.framework/Resources/bin/R CMD build --keep-empty-dirs --no-resave-data hca StartedAt: 2025-07-13 17:13:35 -0400 (Sun, 13 Jul 2025) EndedAt: 2025-07-13 17:14:27 -0400 (Sun, 13 Jul 2025) EllapsedTime: 52.6 seconds RetCode: 1 Status: ERROR PackageFile: None PackageFileSize: NA