Package: hca Version: 1.17.0 Command: /Library/Frameworks/R.framework/Resources/bin/R CMD check --install=check:hca.install-out.txt --library=/Library/Frameworks/R.framework/Resources/library --no-vignettes --timings hca_1.17.0.tar.gz StartedAt: 2025-07-14 19:36:47 -0400 (Mon, 14 Jul 2025) EndedAt: 2025-07-14 19:38:43 -0400 (Mon, 14 Jul 2025) EllapsedTime: 116.4 seconds RetCode: 0 Status: OK CheckDir: hca.Rcheck Warnings: 0