Package: hapFabia Version: 1.51.0 Command: F:\biocbuild\bbs-3.22-bioc\R\bin\R.exe CMD INSTALL hapFabia StartedAt: 2025-07-24 15:49:03 -0400 (Thu, 24 Jul 2025) EndedAt: 2025-07-24 15:50:20 -0400 (Thu, 24 Jul 2025) EllapsedTime: 77.1 seconds RetCode: 0 Status: OK