Package: hapFabia Version: 1.51.0 Command: chmod a+r hapFabia -R && F:\biocbuild\bbs-3.22-bioc\R\bin\R.exe CMD build --keep-empty-dirs --no-resave-data hapFabia StartedAt: 2025-07-24 19:46:48 -0400 (Thu, 24 Jul 2025) EndedAt: 2025-07-24 19:47:47 -0400 (Thu, 24 Jul 2025) EllapsedTime: 59.0 seconds RetCode: 0 Status: OK PackageFile: hapFabia_1.51.0.tar.gz PackageFileSize: 1.572 MiB