Package: hapFabia Version: 1.51.0 Command: /Library/Frameworks/R.framework/Resources/bin/R CMD INSTALL hapFabia StartedAt: 2025-07-14 15:23:37 -0400 (Mon, 14 Jul 2025) EndedAt: 2025-07-14 15:23:52 -0400 (Mon, 14 Jul 2025) EllapsedTime: 14.3 seconds RetCode: 0 Status: OK