Package: hapFabia Version: 1.51.0 Command: /Library/Frameworks/R.framework/Resources/bin/R CMD check --install=check:hapFabia.install-out.txt --library=/Library/Frameworks/R.framework/Resources/library --no-vignettes --timings hapFabia_1.51.0.tar.gz StartedAt: 2025-07-14 21:15:33 -0400 (Mon, 14 Jul 2025) EndedAt: 2025-07-14 21:16:54 -0400 (Mon, 14 Jul 2025) EllapsedTime: 81.0 seconds RetCode: 0 Status: WARNINGS CheckDir: hapFabia.Rcheck Warnings: 1