Package: hapFabia Version: 1.51.0 Command: rm -rf hapFabia.buildbin-libdir && mkdir hapFabia.buildbin-libdir && /Users/biocbuild/BBS/utils/build-universal.sh hapFabia_1.51.0.tar.gz /Library/Frameworks/R.framework/Resources/bin/R hapFabia.buildbin-libdir StartedAt: 2025-07-17 00:59:07 -0400 (Thu, 17 Jul 2025) EndedAt: 2025-07-17 00:59:29 -0400 (Thu, 17 Jul 2025) EllapsedTime: 21.9 seconds RetCode: 0 Status: OK PackageFile: hapFabia_1.51.0.tgz PackageFileSize: 1.781 MiB