Package: h5vc Version: 2.43.0 Command: /home/biocbuild/R/R/bin/R CMD check --install=check:h5vc.install-out.txt --library=/home/biocbuild/R/R/site-library --no-vignettes --timings h5vc_2.43.0.tar.gz StartedAt: 2025-07-11 09:02:52 -0000 (Fri, 11 Jul 2025) EndedAt: 2025-07-11 09:08:58 -0000 (Fri, 11 Jul 2025) EllapsedTime: 366.3 seconds RetCode: 0 Status: WARNINGS CheckDir: h5vc.Rcheck Warnings: 1