Package: h5vc Version: 2.43.0 Command: /home/biocbuild/R/R/bin/R CMD build --keep-empty-dirs --no-resave-data h5vc StartedAt: 2025-07-15 00:11:50 -0000 (Tue, 15 Jul 2025) EndedAt: 2025-07-15 00:51:50 -0000 (Tue, 15 Jul 2025) EllapsedTime: 2400.3 seconds RetCode: None Status: TIMEOUT PackageFile: None PackageFileSize: NA