Package: h5vc Version: 2.43.0 Command: F:\biocbuild\bbs-3.22-bioc\R\bin\R.exe CMD INSTALL h5vc StartedAt: 2025-07-24 15:59:08 -0400 (Thu, 24 Jul 2025) EndedAt: 2025-07-24 15:59:54 -0400 (Thu, 24 Jul 2025) EllapsedTime: 45.9 seconds RetCode: 0 Status: OK