Package: h5vc Version: 2.43.0 Command: chmod a+r h5vc -R && F:\biocbuild\bbs-3.22-bioc\R\bin\R.exe CMD build --keep-empty-dirs --no-resave-data h5vc StartedAt: 2025-07-24 19:46:06 -0400 (Thu, 24 Jul 2025) EndedAt: 2025-07-24 19:48:07 -0400 (Thu, 24 Jul 2025) EllapsedTime: 121.2 seconds RetCode: 0 Status: OK PackageFile: h5vc_2.43.0.tar.gz PackageFileSize: 1.069 MiB