Package: h5vc Version: 2.43.0 Command: /home/biocbuild/bbs-3.22-bioc/R/bin/R CMD INSTALL h5vc StartedAt: 2025-10-10 15:28:17 -0400 (Fri, 10 Oct 2025) EndedAt: 2025-10-10 15:28:36 -0400 (Fri, 10 Oct 2025) EllapsedTime: 19.0 seconds RetCode: 0 Status: OK