Package: h5vc Version: 2.43.0 Command: /home/biocbuild/bbs-3.22-bioc/R/bin/R CMD check --install=check:h5vc.install-out.txt --library=/home/biocbuild/bbs-3.22-bioc/R/site-library --timings h5vc_2.43.0.tar.gz StartedAt: 2025-10-11 00:49:18 -0400 (Sat, 11 Oct 2025) EndedAt: 2025-10-11 00:56:08 -0400 (Sat, 11 Oct 2025) EllapsedTime: 409.4 seconds RetCode: 0 Status: WARNINGS CheckDir: h5vc.Rcheck Warnings: 1